BEGIN:VCALENDAR
VERSION:2.0
PRODID:-//Moraine Valley Center for Teaching &amp; Learning - ECPv6.15.20//NONSGML v1.0//EN
CALSCALE:GREGORIAN
METHOD:PUBLISH
X-WR-CALNAME:Moraine Valley Center for Teaching &amp; Learning
X-ORIGINAL-URL:https://ctl.morainevalley.edu
X-WR-CALDESC:Events for Moraine Valley Center for Teaching &amp; Learning
REFRESH-INTERVAL;VALUE=DURATION:PT1H
X-Robots-Tag:noindex
X-PUBLISHED-TTL:PT1H
BEGIN:VTIMEZONE
TZID:America/Chicago
BEGIN:DAYLIGHT
TZOFFSETFROM:-0600
TZOFFSETTO:-0500
TZNAME:CDT
DTSTART:20180311T080000
END:DAYLIGHT
BEGIN:STANDARD
TZOFFSETFROM:-0500
TZOFFSETTO:-0600
TZNAME:CST
DTSTART:20181104T070000
END:STANDARD
BEGIN:DAYLIGHT
TZOFFSETFROM:-0600
TZOFFSETTO:-0500
TZNAME:CDT
DTSTART:20190310T080000
END:DAYLIGHT
BEGIN:STANDARD
TZOFFSETFROM:-0500
TZOFFSETTO:-0600
TZNAME:CST
DTSTART:20191103T070000
END:STANDARD
BEGIN:DAYLIGHT
TZOFFSETFROM:-0600
TZOFFSETTO:-0500
TZNAME:CDT
DTSTART:20200308T080000
END:DAYLIGHT
BEGIN:STANDARD
TZOFFSETFROM:-0500
TZOFFSETTO:-0600
TZNAME:CST
DTSTART:20201101T070000
END:STANDARD
END:VTIMEZONE
BEGIN:VEVENT
DTSTART;TZID=America/Chicago:20190304T140000
DTEND;TZID=America/Chicago:20190304T153000
DTSTAMP:20260425T120337
CREATED:20190124T210002Z
LAST-MODIFIED:20190124T210002Z
UID:130066-1551708000-1551713400@ctl.morainevalley.edu
SUMMARY:PIE Training
DESCRIPTION:Training will include: \n\nAn introduction to the PIE process and form.\nPersonalized assistance for your department’s FY20 PIEs. This could include a draft PIE form or your notes/thoughts about anticipated plans for FY20. Trainers will be available to assist you with formalizing your PIE plan(s)\, including defining the 1) current situation/baseline data/objective; 2) action steps; and 3) evaluation measures.\nInstructions on how to enter a PIE form into the MVConnect Portal.\nAn opportunity for you to enter your own PIE form into the portal.
URL:https://ctl.morainevalley.edu/event/pie-training/
LOCATION:L243
CATEGORIES:CTLE
END:VEVENT
BEGIN:VEVENT
DTSTART;TZID=America/Chicago:20190304T161500
DTEND;TZID=America/Chicago:20190304T170500
DTSTAMP:20260425T120337
CREATED:20181210T150320Z
LAST-MODIFIED:20181210T150320Z
UID:129823-1551716100-1551719100@ctl.morainevalley.edu
SUMMARY:CANVAS: GETTING STARTED
DESCRIPTION:This workshop will provide an introduction to the Canvas learning management system from an instructor perspective. In this session\, participants will learn how to navigate Canvas\, post a course syllabus\, create a simple module\, edit the course menu\, post announcements\, and make the course and its resources available to students.
URL:https://ctl.morainevalley.edu/event/canvas-getting-started-3/
LOCATION:L243
CATEGORIES:CTLF
END:VEVENT
END:VCALENDAR