BEGIN:VCALENDAR
VERSION:2.0
PRODID:-//Moraine Valley Center for Teaching &amp; Learning - ECPv6.15.20//NONSGML v1.0//EN
CALSCALE:GREGORIAN
METHOD:PUBLISH
X-WR-CALNAME:Moraine Valley Center for Teaching &amp; Learning
X-ORIGINAL-URL:https://ctl.morainevalley.edu
X-WR-CALDESC:Events for Moraine Valley Center for Teaching &amp; Learning
REFRESH-INTERVAL;VALUE=DURATION:PT1H
X-Robots-Tag:noindex
X-PUBLISHED-TTL:PT1H
BEGIN:VTIMEZONE
TZID:America/Chicago
BEGIN:DAYLIGHT
TZOFFSETFROM:-0600
TZOFFSETTO:-0500
TZNAME:CDT
DTSTART:20180311T080000
END:DAYLIGHT
BEGIN:STANDARD
TZOFFSETFROM:-0500
TZOFFSETTO:-0600
TZNAME:CST
DTSTART:20181104T070000
END:STANDARD
BEGIN:DAYLIGHT
TZOFFSETFROM:-0600
TZOFFSETTO:-0500
TZNAME:CDT
DTSTART:20190310T080000
END:DAYLIGHT
BEGIN:STANDARD
TZOFFSETFROM:-0500
TZOFFSETTO:-0600
TZNAME:CST
DTSTART:20191103T070000
END:STANDARD
BEGIN:DAYLIGHT
TZOFFSETFROM:-0600
TZOFFSETTO:-0500
TZNAME:CDT
DTSTART:20200308T080000
END:DAYLIGHT
BEGIN:STANDARD
TZOFFSETFROM:-0500
TZOFFSETTO:-0600
TZNAME:CST
DTSTART:20201101T070000
END:STANDARD
END:VTIMEZONE
BEGIN:VEVENT
DTSTART;TZID=America/Chicago:20190606T103000
DTEND;TZID=America/Chicago:20190606T112000
DTSTAMP:20260422T181627
CREATED:20190426T154921Z
LAST-MODIFIED:20190426T154921Z
UID:130558-1559817000-1559820000@ctl.morainevalley.edu
SUMMARY:Canvas: Getting Started
DESCRIPTION:This workshop will provide an introduction to the Canvas learning management system from an instructor perspective. In this session\, participants will learn how to navigate Canvas\, post a course syllabus\, create a simple module\, edit the course menu\, post announcements\, and make the course and its resources available to students.
URL:https://ctl.morainevalley.edu/event/canvas-getting-started-5/
LOCATION:L243
CATEGORIES:CTLF
END:VEVENT
BEGIN:VEVENT
DTSTART;TZID=America/Chicago:20190606T113000
DTEND;TZID=America/Chicago:20190606T120000
DTSTAMP:20260422T181627
CREATED:20190426T154921Z
LAST-MODIFIED:20190426T154921Z
UID:130559-1559820600-1559822400@ctl.morainevalley.edu
SUMMARY:Canvas Grades: Getting Started
DESCRIPTION:This workshop will provide an introduction to the assignments and grades tools in Canvas. In this session\, instructors will create a simple assignment\, enter student grades and feedback\, and setup grading policies.
URL:https://ctl.morainevalley.edu/event/canvas-grades-getting-started-5/
LOCATION:L243
CATEGORIES:CTLF
END:VEVENT
BEGIN:VEVENT
DTSTART;TZID=America/Chicago:20190606T130000
DTEND;TZID=America/Chicago:20190606T135000
DTSTAMP:20260422T181627
CREATED:20190426T154921Z
LAST-MODIFIED:20190426T154921Z
UID:130560-1559826000-1559829000@ctl.morainevalley.edu
SUMMARY:Collect Student Work In Canvas
DESCRIPTION:This workshop will demonstrate how to create an assignment to accept various types of digital submissions and how to view and grade student work using SpeedGrader.
URL:https://ctl.morainevalley.edu/event/collect-student-work-in-canvas-4/
LOCATION:L243
CATEGORIES:CTLF
END:VEVENT
BEGIN:VEVENT
DTSTART;TZID=America/Chicago:20190606T140000
DTEND;TZID=America/Chicago:20190606T145000
DTSTAMP:20260422T181627
CREATED:20190426T154921Z
LAST-MODIFIED:20190426T154921Z
UID:130561-1559829600-1559832600@ctl.morainevalley.edu
SUMMARY:Canvas Rubrics\, Outcomes\, And Grading
DESCRIPTION:This workshop will demonstrate how to create and attach rubrics and outcomes to course activities.
URL:https://ctl.morainevalley.edu/event/canvas-rubrics-outcomes-and-grading-2/
LOCATION:L243
CATEGORIES:CTLF
END:VEVENT
END:VCALENDAR