BEGIN:VCALENDAR
VERSION:2.0
PRODID:-//Moraine Valley Center for Teaching &amp; Learning - ECPv6.15.20//NONSGML v1.0//EN
CALSCALE:GREGORIAN
METHOD:PUBLISH
X-ORIGINAL-URL:https://ctl.morainevalley.edu
X-WR-CALDESC:Events for Moraine Valley Center for Teaching &amp; Learning
REFRESH-INTERVAL;VALUE=DURATION:PT1H
X-Robots-Tag:noindex
X-PUBLISHED-TTL:PT1H
BEGIN:VTIMEZONE
TZID:America/Chicago
BEGIN:DAYLIGHT
TZOFFSETFROM:-0600
TZOFFSETTO:-0500
TZNAME:CDT
DTSTART:20230312T080000
END:DAYLIGHT
BEGIN:STANDARD
TZOFFSETFROM:-0500
TZOFFSETTO:-0600
TZNAME:CST
DTSTART:20231105T070000
END:STANDARD
BEGIN:DAYLIGHT
TZOFFSETFROM:-0600
TZOFFSETTO:-0500
TZNAME:CDT
DTSTART:20240310T080000
END:DAYLIGHT
BEGIN:STANDARD
TZOFFSETFROM:-0500
TZOFFSETTO:-0600
TZNAME:CST
DTSTART:20241103T070000
END:STANDARD
BEGIN:DAYLIGHT
TZOFFSETFROM:-0600
TZOFFSETTO:-0500
TZNAME:CDT
DTSTART:20250309T080000
END:DAYLIGHT
BEGIN:STANDARD
TZOFFSETFROM:-0500
TZOFFSETTO:-0600
TZNAME:CST
DTSTART:20251102T070000
END:STANDARD
END:VTIMEZONE
BEGIN:VEVENT
DTSTART;TZID=America/Chicago:20240112T120000
DTEND;TZID=America/Chicago:20240112T125000
DTSTAMP:20260421T234942
CREATED:20231208T212459Z
LAST-MODIFIED:20231208T212459Z
UID:139937-1705060800-1705063800@ctl.morainevalley.edu
SUMMARY:OUTLOOK BASICS (CTLE-T231-501)
DESCRIPTION:The objective of this course is to walk you through the basics of Microsoft Outlook from the desktop and web views. The workshop will cover signing in\, locating frequently used areas\, creating as well as applying your signature\, setting reply all settings\, handling quarantine mail and reporting suspicious mail. This training is in a computer lab for hands-on engagement.
URL:https://ctl.morainevalley.edu/event/outlook-basics-ctle-t231-501/
LOCATION:L244
CATEGORIES:CTLE
END:VEVENT
BEGIN:VEVENT
DTSTART;TZID=America/Chicago:20240118T120000
DTEND;TZID=America/Chicago:20240118T125000
DTSTAMP:20260421T234942
CREATED:20231208T214941Z
LAST-MODIFIED:20231208T215326Z
UID:139941-1705579200-1705582200@ctl.morainevalley.edu
SUMMARY:WEBEX TRAINING (CTLE-T188-501)
DESCRIPTION:The objective of this course is to walk you through Webex. The workshop will cover identifying the meeting room link\, scheduling a meeting\, inviting attendees\, starting a meeting\, joining a meeting\, audio connection\, video connection\, chat\, sharing and recording a meeting. ATTENDEES SHOULD BRING THEIR LAPTOPS AND HEADPHONES.
URL:https://ctl.morainevalley.edu/event/webex-training-ctle-t188-501/
LOCATION:A280
CATEGORIES:CTLE
END:VEVENT
BEGIN:VEVENT
DTSTART;TZID=America/Chicago:20240119T100000
DTEND;TZID=America/Chicago:20240119T110000
DTSTAMP:20260421T234942
CREATED:20231208T215929Z
LAST-MODIFIED:20231208T215929Z
UID:139942-1705658400-1705662000@ctl.morainevalley.edu
SUMMARY:PROFESSIONAL DEVELOPMENT Q&A (CTLE-V210-530)
DESCRIPTION:The objective of this course is to walk you through Webex. The workshop will cover identifying the meeting room link\, scheduling a meeting\, inviting attendees\, starting a meeting\, joining a meeting\, audio connection\, video connection\, chat\, sharing and recording a meeting. ATTENDEES SHOULD BRING THEIR LAPTOPS AND HEADPHONES.
URL:https://ctl.morainevalley.edu/event/professional-development-qa-ctle-v210-530/
LOCATION:A280
CATEGORIES:CTLE
END:VEVENT
BEGIN:VEVENT
DTSTART;TZID=America/Chicago:20240122T120000
DTEND;TZID=America/Chicago:20240122T130000
DTSTAMP:20260421T234942
CREATED:20231208T220948Z
LAST-MODIFIED:20231208T220948Z
UID:139943-1705924800-1705928400@ctl.morainevalley.edu
SUMMARY:SELF-CARE: THE SERIES [WELLNESS KICKOFF] (CTLE-E119-546)
DESCRIPTION:This is the first of 22 sessions hosted by the Wellness Coordinator and the Center for Teaching and Learning intended to educate and inspire people to engage in self-care. Those who register for the self-care series by the February 26th session and attend all of the sessions will be entered into a lottery at the end of the series to win prizes. The talk on January 22 will define self-care and the benefits it provides. At each in-person event\, little tokens will be distributed.
URL:https://ctl.morainevalley.edu/event/self-care-the-series-wellness-kickoff-ctle-e119-546/
LOCATION:Online with Hybrid Mtgs.\, United States
CATEGORIES:CTLE
END:VEVENT
BEGIN:VEVENT
DTSTART;TZID=America/Chicago:20240125T120000
DTEND;TZID=America/Chicago:20240125T125000
DTSTAMP:20260421T234942
CREATED:20231208T221722Z
LAST-MODIFIED:20231208T221813Z
UID:139944-1706184000-1706187000@ctl.morainevalley.edu
SUMMARY:OUTLOOK ADVANCED (CTLE-T190-546)
DESCRIPTION:The objective of this course is to walk you through some of the more advanced features of Microsoft Outlook from the desktop and web views. The workshop will cover navigating special characters\, polling\, message receipts\, expiring an email\, and using the trust center. This training is in a computer lab for hands-on engagement.
URL:https://ctl.morainevalley.edu/event/outlook-advanced-ctle-t190-546/
LOCATION:Online with Hybrid Mtgs.\, United States
CATEGORIES:CTLE
END:VEVENT
BEGIN:VEVENT
DTSTART;TZID=America/Chicago:20240131T120000
DTEND;TZID=America/Chicago:20240131T125000
DTSTAMP:20260421T234942
CREATED:20231208T223059Z
LAST-MODIFIED:20231208T223059Z
UID:139946-1706702400-1706705400@ctl.morainevalley.edu
SUMMARY:ADVOCATE FOR FORWARD ROTATION (CTLE-V205-501)
DESCRIPTION:Advocate for Forward Rotation is a change management and advocacy presentation. The goal of this presentation is to discuss change management and how each member of Moraine Valley Community College can help advocate for changes that will allow Moraine Valley Community College to meet its mission and vision while also meeting the changing needs of its students\, staff\, and community.
URL:https://ctl.morainevalley.edu/event/advocate-for-forward-rotation-ctle-v205-501/
LOCATION:D116\, United States
CATEGORIES:CTLE
END:VEVENT
END:VCALENDAR