BEGIN:VCALENDAR
VERSION:2.0
PRODID:-//Moraine Valley Center for Teaching &amp; Learning - ECPv6.15.20//NONSGML v1.0//EN
CALSCALE:GREGORIAN
METHOD:PUBLISH
X-WR-CALNAME:Moraine Valley Center for Teaching &amp; Learning
X-ORIGINAL-URL:https://ctl.morainevalley.edu
X-WR-CALDESC:Events for Moraine Valley Center for Teaching &amp; Learning
REFRESH-INTERVAL;VALUE=DURATION:PT1H
X-Robots-Tag:noindex
X-PUBLISHED-TTL:PT1H
BEGIN:VTIMEZONE
TZID:America/Chicago
BEGIN:DAYLIGHT
TZOFFSETFROM:-0600
TZOFFSETTO:-0500
TZNAME:CDT
DTSTART:20230312T080000
END:DAYLIGHT
BEGIN:STANDARD
TZOFFSETFROM:-0500
TZOFFSETTO:-0600
TZNAME:CST
DTSTART:20231105T070000
END:STANDARD
BEGIN:DAYLIGHT
TZOFFSETFROM:-0600
TZOFFSETTO:-0500
TZNAME:CDT
DTSTART:20240310T080000
END:DAYLIGHT
BEGIN:STANDARD
TZOFFSETFROM:-0500
TZOFFSETTO:-0600
TZNAME:CST
DTSTART:20241103T070000
END:STANDARD
BEGIN:DAYLIGHT
TZOFFSETFROM:-0600
TZOFFSETTO:-0500
TZNAME:CDT
DTSTART:20250309T080000
END:DAYLIGHT
BEGIN:STANDARD
TZOFFSETFROM:-0500
TZOFFSETTO:-0600
TZNAME:CST
DTSTART:20251102T070000
END:STANDARD
END:VTIMEZONE
BEGIN:VEVENT
DTSTART;TZID=America/Chicago:20240905T100000
DTEND;TZID=America/Chicago:20241024T110000
DTSTAMP:20260419T220422
CREATED:20240814T210748Z
LAST-MODIFIED:20240814T210748Z
UID:140317-1725530400-1729767600@ctl.morainevalley.edu
SUMMARY:Leading with Impact:  Enhancing Your Portfolio (CTLE-V203-560)
DESCRIPTION:Leading with Impact: A Skills Series is a three part series takes individuals through identifying who they are as leaders to building leadership portfolios and finally equipping them with a manager’s toolkit to help them as a supervisor at Moraine Valley Community College. This program is a strongly encouraged for all supervisors across the college.
URL:https://ctl.morainevalley.edu/event/leading-with-impact-enhancing-your-portfolio-ctle-v203-560/
LOCATION:D116\, United States
CATEGORIES:CTLE
END:VEVENT
BEGIN:VEVENT
DTSTART;TZID=America/Chicago:20240916T120000
DTEND;TZID=America/Chicago:20240916T130000
DTSTAMP:20260419T220422
CREATED:20240814T211626Z
LAST-MODIFIED:20240814T211626Z
UID:140320-1726488000-1726491600@ctl.morainevalley.edu
SUMMARY:Self Care: Spiritual Awareness (CTLE-E26-547)
DESCRIPTION:This is the seventeenth session in the self-care series hosted by the Wellness Coordinator\, Diversity\, Equity\, and Inclusion\,\nand the Center for Teaching and Learning. We will connect via Microsoft Teams to reflect on the panel discussion from\nSeptember 4 as well as allow people to share how their spiritual journey has helped them with self-care. Additionally\,\nwe will share insights on understanding the religious communities represented at Moraine Valley Community College\nand how we engage in ways to foster inclusion.
URL:https://ctl.morainevalley.edu/event/self-care-spiritual-awareness-ctle-e26-547/
LOCATION:Online
CATEGORIES:CTLE
END:VEVENT
END:VCALENDAR