BEGIN:VCALENDAR
VERSION:2.0
PRODID:-//Moraine Valley Center for Teaching &amp; Learning - ECPv6.15.20//NONSGML v1.0//EN
CALSCALE:GREGORIAN
METHOD:PUBLISH
X-WR-CALNAME:Moraine Valley Center for Teaching &amp; Learning
X-ORIGINAL-URL:https://ctl.morainevalley.edu
X-WR-CALDESC:Events for Moraine Valley Center for Teaching &amp; Learning
REFRESH-INTERVAL;VALUE=DURATION:PT1H
X-Robots-Tag:noindex
X-PUBLISHED-TTL:PT1H
BEGIN:VTIMEZONE
TZID:America/Chicago
BEGIN:DAYLIGHT
TZOFFSETFROM:-0600
TZOFFSETTO:-0500
TZNAME:CDT
DTSTART:20180311T080000
END:DAYLIGHT
BEGIN:STANDARD
TZOFFSETFROM:-0500
TZOFFSETTO:-0600
TZNAME:CST
DTSTART:20181104T070000
END:STANDARD
BEGIN:DAYLIGHT
TZOFFSETFROM:-0600
TZOFFSETTO:-0500
TZNAME:CDT
DTSTART:20190310T080000
END:DAYLIGHT
BEGIN:STANDARD
TZOFFSETFROM:-0500
TZOFFSETTO:-0600
TZNAME:CST
DTSTART:20191103T070000
END:STANDARD
BEGIN:DAYLIGHT
TZOFFSETFROM:-0600
TZOFFSETTO:-0500
TZNAME:CDT
DTSTART:20200308T080000
END:DAYLIGHT
BEGIN:STANDARD
TZOFFSETFROM:-0500
TZOFFSETTO:-0600
TZNAME:CST
DTSTART:20201101T070000
END:STANDARD
END:VTIMEZONE
BEGIN:VEVENT
DTSTART;TZID=America/Chicago:20190402T103000
DTEND;TZID=America/Chicago:20190402T120000
DTSTAMP:20260421T164238
CREATED:20190307T202730Z
LAST-MODIFIED:20190307T202730Z
UID:130307-1554201000-1554206400@ctl.morainevalley.edu
SUMMARY:COL101 CANVAS AND NEW TEXTBOOK
DESCRIPTION:This training is designed to help COL101 move smoothly into the new textbook while incorporating one of the courses new objectives\, MVCC Technology. A course shell has been created to allow easy adoption of the material and get students and instructors comfortable with the online tools through the introduction of college life\, success skills\, and transitions.\nAll COL101 instructors will be provided a course shell to copy into their own master course shell.
URL:https://ctl.morainevalley.edu/event/col101-canvas-and-new-textbook-5/
LOCATION:L243
CATEGORIES:CTLF
END:VEVENT
BEGIN:VEVENT
DTSTART;TZID=America/Chicago:20190404T134500
DTEND;TZID=America/Chicago:20190404T144500
DTSTAMP:20260421T164238
CREATED:20181210T150339Z
LAST-MODIFIED:20181210T150339Z
UID:129843-1554385500-1554389100@ctl.morainevalley.edu
SUMMARY:ACCESSIBILITY IN CANVAS
DESCRIPTION:Accessibility is an important aspect in the success of all students\, especially those using Canvas. We will focus on utilizing the easy-to-use UDOIT tool in Canvas\, which can help scan courses for accessibility issues and offer corrections. This session will allow time for you to scan your own classes\, learn about accessibility issues\, and receive assistance with corrections.
URL:https://ctl.morainevalley.edu/event/accessibility-in-canvas-16/
LOCATION:L243
CATEGORIES:CTLE
END:VEVENT
BEGIN:VEVENT
DTSTART;TZID=America/Chicago:20190408T144500
DTEND;TZID=America/Chicago:20190408T151500
DTSTAMP:20260421T164238
CREATED:20181210T150339Z
LAST-MODIFIED:20181210T150339Z
UID:129844-1554734700-1554736500@ctl.morainevalley.edu
SUMMARY:ORGANIZE MATERIALS IN CANVAS
DESCRIPTION:This workshop will share strategies to simplify module content and duplicate modules for consistency.
URL:https://ctl.morainevalley.edu/event/organize-materials-in-canvas/
LOCATION:L243
CATEGORIES:CTLF
END:VEVENT
BEGIN:VEVENT
DTSTART;TZID=America/Chicago:20190430T150000
DTEND;TZID=America/Chicago:20190430T154500
DTSTAMP:20260421T164238
CREATED:20181210T150352Z
LAST-MODIFIED:20181210T150352Z
UID:129852-1556636400-1556639100@ctl.morainevalley.edu
SUMMARY:UPDATES TO CANVAS GRADE BOOK
DESCRIPTION:In this session\, participants will learn about changes to the Canvas gradebook.
URL:https://ctl.morainevalley.edu/event/updates-to-canvas-grade-book-8/
LOCATION:L243
CATEGORIES:CTLF
END:VEVENT
END:VCALENDAR