BEGIN:VCALENDAR
VERSION:2.0
PRODID:-//Moraine Valley Center for Teaching &amp; Learning - ECPv6.15.20//NONSGML v1.0//EN
CALSCALE:GREGORIAN
METHOD:PUBLISH
X-ORIGINAL-URL:https://ctl.morainevalley.edu
X-WR-CALDESC:Events for Moraine Valley Center for Teaching &amp; Learning
REFRESH-INTERVAL;VALUE=DURATION:PT1H
X-Robots-Tag:noindex
X-PUBLISHED-TTL:PT1H
BEGIN:VTIMEZONE
TZID:America/Chicago
BEGIN:DAYLIGHT
TZOFFSETFROM:-0600
TZOFFSETTO:-0500
TZNAME:CDT
DTSTART:20190310T080000
END:DAYLIGHT
BEGIN:STANDARD
TZOFFSETFROM:-0500
TZOFFSETTO:-0600
TZNAME:CST
DTSTART:20191103T070000
END:STANDARD
BEGIN:DAYLIGHT
TZOFFSETFROM:-0600
TZOFFSETTO:-0500
TZNAME:CDT
DTSTART:20200308T080000
END:DAYLIGHT
BEGIN:STANDARD
TZOFFSETFROM:-0500
TZOFFSETTO:-0600
TZNAME:CST
DTSTART:20201101T070000
END:STANDARD
BEGIN:DAYLIGHT
TZOFFSETFROM:-0600
TZOFFSETTO:-0500
TZNAME:CDT
DTSTART:20210314T080000
END:DAYLIGHT
BEGIN:STANDARD
TZOFFSETFROM:-0500
TZOFFSETTO:-0600
TZNAME:CST
DTSTART:20211107T070000
END:STANDARD
END:VTIMEZONE
BEGIN:VEVENT
DTSTART;TZID=America/Chicago:20200107T100000
DTEND;TZID=America/Chicago:20200107T110000
DTSTAMP:20260425T095459
CREATED:20191206T211916Z
LAST-MODIFIED:20191206T214633Z
UID:131347-1578391200-1578394800@ctl.morainevalley.edu
SUMMARY:FY 21 Annual Budget Process
DESCRIPTION:This session is designed for budget owners and will cover how to use Budget Developer to complete the FY 21 budget.
URL:https://ctl.morainevalley.edu/event/__trashed/
LOCATION:L243
CATEGORIES:CTLE
END:VEVENT
BEGIN:VEVENT
DTSTART;TZID=America/Chicago:20200109T140000
DTEND;TZID=America/Chicago:20200109T150000
DTSTAMP:20260425T095459
CREATED:20191206T211917Z
LAST-MODIFIED:20191206T214633Z
UID:131348-1578578400-1578582000@ctl.morainevalley.edu
SUMMARY:FY 21 Annual Budget Process
DESCRIPTION:This session is designed for budget owners and will cover how to use Budget Developer to complete the FY 21 budget.
URL:https://ctl.morainevalley.edu/event/__trashed-2/
LOCATION:L243
CATEGORIES:CTLE
END:VEVENT
BEGIN:VEVENT
DTSTART;TZID=America/Chicago:20200110T093000
DTEND;TZID=America/Chicago:20200110T100000
DTSTAMP:20260425T095459
CREATED:20191206T211917Z
LAST-MODIFIED:20191206T214633Z
UID:131349-1578648600-1578650400@ctl.morainevalley.edu
SUMMARY:Updates To Faculty Self-Service Tools
DESCRIPTION:Learn how to use the updated Faculty Self-service to enter grades and verifications
URL:https://ctl.morainevalley.edu/event/__trashed-3/
LOCATION:L243
CATEGORIES:CTLF
END:VEVENT
BEGIN:VEVENT
DTSTART;TZID=America/Chicago:20200113T140000
DTEND;TZID=America/Chicago:20200113T143000
DTSTAMP:20260425T095459
CREATED:20191206T211917Z
LAST-MODIFIED:20191206T214633Z
UID:131350-1578924000-1578925800@ctl.morainevalley.edu
SUMMARY:Updates To Faculty Self-Service Tools
DESCRIPTION:Learn how to use the updated Faculty Self-service to enter grades and verifications
URL:https://ctl.morainevalley.edu/event/__trashed-4/
LOCATION:L243
CATEGORIES:CTLF
END:VEVENT
BEGIN:VEVENT
DTSTART;TZID=America/Chicago:20200114T110000
DTEND;TZID=America/Chicago:20200114T113000
DTSTAMP:20260425T095459
CREATED:20191206T211917Z
LAST-MODIFIED:20191206T214633Z
UID:131351-1578999600-1579001400@ctl.morainevalley.edu
SUMMARY:Updates To Faculty Self-Service Tools
DESCRIPTION:Learn how to use the updated Faculty Self-service to enter grades and verifications
URL:https://ctl.morainevalley.edu/event/__trashed-5/
LOCATION:L243
CATEGORIES:CTLF
END:VEVENT
BEGIN:VEVENT
DTSTART;TZID=America/Chicago:20200115T150000
DTEND;TZID=America/Chicago:20200115T155000
DTSTAMP:20260425T095459
CREATED:20191206T211917Z
LAST-MODIFIED:20191206T214634Z
UID:131352-1579100400-1579103400@ctl.morainevalley.edu
SUMMARY:Canvas: Due Dates
DESCRIPTION:This session will discuss the benefits of using due dates in Canvas and tips to manage dates from one semester to another.
URL:https://ctl.morainevalley.edu/event/__trashed-6/
LOCATION:L243
CATEGORIES:CTLF
END:VEVENT
BEGIN:VEVENT
DTSTART;TZID=America/Chicago:20200116T100000
DTEND;TZID=America/Chicago:20200116T103000
DTSTAMP:20260425T095459
CREATED:20191206T211918Z
LAST-MODIFIED:20191206T214634Z
UID:131353-1579168800-1579170600@ctl.morainevalley.edu
SUMMARY:Canvas: New Plagiarism Detection Tool
DESCRIPTION:Kick the tires on our new plagiarism tool\, SIMCheck\, before it rolls out in the summer!
URL:https://ctl.morainevalley.edu/event/__trashed-7/
LOCATION:L243
CATEGORIES:CTLF
END:VEVENT
BEGIN:VEVENT
DTSTART;TZID=America/Chicago:20200121T110000
DTEND;TZID=America/Chicago:20200121T115000
DTSTAMP:20260425T095459
CREATED:20191206T211918Z
LAST-MODIFIED:20191206T214634Z
UID:131354-1579604400-1579607400@ctl.morainevalley.edu
SUMMARY:Canvas: New Features
DESCRIPTION:This workshop will showcase some of the new features in Canvas.
URL:https://ctl.morainevalley.edu/event/__trashed-8/
LOCATION:L243
CATEGORIES:CTLF
END:VEVENT
BEGIN:VEVENT
DTSTART;TZID=America/Chicago:20200122T170000
DTEND;TZID=America/Chicago:20200122T175000
DTSTAMP:20260425T095459
CREATED:20191206T211918Z
LAST-MODIFIED:20191206T214634Z
UID:131356-1579712400-1579715400@ctl.morainevalley.edu
SUMMARY:Student Engagement Techniques: No Tech Option
DESCRIPTION:Are you looking for strategies to engage your student that you can begin using immediately without technology?  This workshop will focus on no tech options to engage your students including collaborative and active learning techniques.
URL:https://ctl.morainevalley.edu/event/__trashed-10/
LOCATION:L244
CATEGORIES:CTLF
END:VEVENT
BEGIN:VEVENT
DTSTART;TZID=America/Chicago:20200127T150000
DTEND;TZID=America/Chicago:20200127T155000
DTSTAMP:20260425T095459
CREATED:20191206T211918Z
LAST-MODIFIED:20191206T214634Z
UID:131357-1580137200-1580140200@ctl.morainevalley.edu
SUMMARY:Canvas: Rubrics Outcomes Grades
DESCRIPTION:This workshop will demonstrate how to use attached rubrics to graded activities
URL:https://ctl.morainevalley.edu/event/__trashed-11/
LOCATION:L243
CATEGORIES:CTLF
END:VEVENT
BEGIN:VEVENT
DTSTART;TZID=America/Chicago:20200128T143000
DTEND;TZID=America/Chicago:20200128T153000
DTSTAMP:20260425T095459
CREATED:20191206T211919Z
LAST-MODIFIED:20191206T214634Z
UID:131358-1580221800-1580225400@ctl.morainevalley.edu
SUMMARY:Updates To Faculty Self-Service - Open Lab
DESCRIPTION:Learn how to use the FA verification in the updated Faculty Self-Service at this open lab.
URL:https://ctl.morainevalley.edu/event/__trashed-12/
LOCATION:L243
CATEGORIES:CTLF
END:VEVENT
BEGIN:VEVENT
DTSTART;TZID=America/Chicago:20200129T090000
DTEND;TZID=America/Chicago:20200129T094500
DTSTAMP:20260425T095459
CREATED:20191206T211919Z
LAST-MODIFIED:20191206T214634Z
UID:131359-1580288400-1580291100@ctl.morainevalley.edu
SUMMARY:Windows 10 And Microsoft Office 2016
DESCRIPTION:In this hands-on workshop\, participants will learn about features in Windows 10 and Office 2016.
URL:https://ctl.morainevalley.edu/event/__trashed-13/
LOCATION:L243
CATEGORIES:CTLE
END:VEVENT
BEGIN:VEVENT
DTSTART;TZID=America/Chicago:20200129T100000
DTEND;TZID=America/Chicago:20200129T104500
DTSTAMP:20260425T095459
CREATED:20191206T211919Z
LAST-MODIFIED:20191206T214634Z
UID:131360-1580292000-1580294700@ctl.morainevalley.edu
SUMMARY:Microsoft Outlook Calendaring
DESCRIPTION:This workshop will demonstrate how to use Microsoft Outlook to create calendar items and use the scheduler to invite others to meetings.
URL:https://ctl.morainevalley.edu/event/__trashed-14/
LOCATION:L243
CATEGORIES:CTLE
END:VEVENT
BEGIN:VEVENT
DTSTART;TZID=America/Chicago:20200129T110000
DTEND;TZID=America/Chicago:20200129T114500
DTSTAMP:20260425T095459
CREATED:20191206T211919Z
LAST-MODIFIED:20191206T214634Z
UID:131361-1580295600-1580298300@ctl.morainevalley.edu
SUMMARY:Microsoft Excel Sorting And Filtering
DESCRIPTION:This workshops will demonstrate how to use custom sort and how to convert Excel data to tables to apply filters.
URL:https://ctl.morainevalley.edu/event/__trashed-15/
LOCATION:L243
CATEGORIES:CTLE
END:VEVENT
END:VCALENDAR