BEGIN:VCALENDAR
VERSION:2.0
PRODID:-//Moraine Valley Center for Teaching &amp; Learning - ECPv6.15.20//NONSGML v1.0//EN
CALSCALE:GREGORIAN
METHOD:PUBLISH
X-WR-CALNAME:Moraine Valley Center for Teaching &amp; Learning
X-ORIGINAL-URL:https://ctl.morainevalley.edu
X-WR-CALDESC:Events for Moraine Valley Center for Teaching &amp; Learning
REFRESH-INTERVAL;VALUE=DURATION:PT1H
X-Robots-Tag:noindex
X-PUBLISHED-TTL:PT1H
BEGIN:VTIMEZONE
TZID:America/Chicago
BEGIN:DAYLIGHT
TZOFFSETFROM:-0600
TZOFFSETTO:-0500
TZNAME:CDT
DTSTART:20190310T080000
END:DAYLIGHT
BEGIN:STANDARD
TZOFFSETFROM:-0500
TZOFFSETTO:-0600
TZNAME:CST
DTSTART:20191103T070000
END:STANDARD
BEGIN:DAYLIGHT
TZOFFSETFROM:-0600
TZOFFSETTO:-0500
TZNAME:CDT
DTSTART:20200308T080000
END:DAYLIGHT
BEGIN:STANDARD
TZOFFSETFROM:-0500
TZOFFSETTO:-0600
TZNAME:CST
DTSTART:20201101T070000
END:STANDARD
BEGIN:DAYLIGHT
TZOFFSETFROM:-0600
TZOFFSETTO:-0500
TZNAME:CDT
DTSTART:20210314T080000
END:DAYLIGHT
BEGIN:STANDARD
TZOFFSETFROM:-0500
TZOFFSETTO:-0600
TZNAME:CST
DTSTART:20211107T070000
END:STANDARD
END:VTIMEZONE
BEGIN:VEVENT
DTSTART;TZID=America/Chicago:20200303T101500
DTEND;TZID=America/Chicago:20200303T104500
DTSTAMP:20260422T052343
CREATED:20191206T214636Z
LAST-MODIFIED:20191206T214636Z
UID:131520-1583230500-1583232300@ctl.morainevalley.edu
SUMMARY:Canvas Grades: Getting Started
DESCRIPTION:This workshop will provide an introduction to the assignments and grades tools in Canvas. In this session\, instructors will create a simple assignment\, enter student grades and feedback\, and setup grading policies.
URL:https://ctl.morainevalley.edu/event/canvas-grades-getting-started-3/
LOCATION:L243
CATEGORIES:CTLF
END:VEVENT
BEGIN:VEVENT
DTSTART;TZID=America/Chicago:20200303T110000
DTEND;TZID=America/Chicago:20200303T115000
DTSTAMP:20260422T052343
CREATED:20191206T214636Z
LAST-MODIFIED:20191206T214636Z
UID:131521-1583233200-1583236200@ctl.morainevalley.edu
SUMMARY:Collect Student Work In Canvas
DESCRIPTION:This workshop will demonstrate how to create an assignment to accept various types of digital submissions and how to view and grade student work using SpeedGrader.
URL:https://ctl.morainevalley.edu/event/collect-student-work-in-canvas-2/
LOCATION:L243
CATEGORIES:CTLF
END:VEVENT
BEGIN:VEVENT
DTSTART;TZID=America/Chicago:20200306T093000
DTEND;TZID=America/Chicago:20200306T103000
DTSTAMP:20260422T052343
CREATED:20191206T214636Z
LAST-MODIFIED:20191206T214636Z
UID:131522-1583487000-1583490600@ctl.morainevalley.edu
SUMMARY:Updates To Faculty Self-Service - Open Lab
DESCRIPTION:Learn how to use the midterm verification in the updated Faculty Self-Service at this open lab.
URL:https://ctl.morainevalley.edu/event/updates-to-faculty-self-service-open-lab/
LOCATION:L243
CATEGORIES:CTLF
END:VEVENT
BEGIN:VEVENT
DTSTART;TZID=America/Chicago:20200316T170000
DTEND;TZID=America/Chicago:20200316T175000
DTSTAMP:20260422T052343
CREATED:20191206T214636Z
LAST-MODIFIED:20191206T214636Z
UID:131523-1584378000-1584381000@ctl.morainevalley.edu
SUMMARY:Student Engagement Techniques: No Tech Option
DESCRIPTION:Are you looking for strategies to engage your student that you can begin using immediately without technology?  This workshop will focus on no tech options to engage your students including collaborative and active learning techniques.
URL:https://ctl.morainevalley.edu/event/student-engagement-techniques-no-tech-option/
LOCATION:L244
CATEGORIES:CTLF
END:VEVENT
BEGIN:VEVENT
DTSTART;TZID=America/Chicago:20200317T140000
DTEND;TZID=America/Chicago:20200317T145000
DTSTAMP:20260422T052343
CREATED:20191206T214636Z
LAST-MODIFIED:20191206T214636Z
UID:131524-1584453600-1584456600@ctl.morainevalley.edu
SUMMARY:Canvas: Communications
DESCRIPTION:Through demonstrations and hands-on experience\, this training has been developed to provide an introduction to the various communication features available in Canvas.
URL:https://ctl.morainevalley.edu/event/canvas-communications-13/
LOCATION:L243
CATEGORIES:CTLF
END:VEVENT
BEGIN:VEVENT
DTSTART;TZID=America/Chicago:20200317T170000
DTEND;TZID=America/Chicago:20200317T175000
DTSTAMP:20260422T052343
CREATED:20191206T214636Z
LAST-MODIFIED:20191206T214636Z
UID:131525-1584464400-1584467400@ctl.morainevalley.edu
SUMMARY:Student Engagement Techniques: No Tech Option
DESCRIPTION:Are you looking for strategies to engage your student that you can begin using immediately without technology?  This workshop will focus on no tech options to engage your students including collaborative and active learning techniques.
URL:https://ctl.morainevalley.edu/event/student-engagement-techniques-no-tech-option-2/
LOCATION:L244
CATEGORIES:CTLF
END:VEVENT
BEGIN:VEVENT
DTSTART;TZID=America/Chicago:20200318T110000
DTEND;TZID=America/Chicago:20200318T115000
DTSTAMP:20260422T052343
CREATED:20191206T214636Z
LAST-MODIFIED:20191206T214636Z
UID:131526-1584529200-1584532200@ctl.morainevalley.edu
SUMMARY:Canvas: Conferences With Big Blue Button
DESCRIPTION:Conferences are a great way to engage your students in a live video setting!
URL:https://ctl.morainevalley.edu/event/canvas-conferences-with-big-blue-button/
LOCATION:L243
CATEGORIES:CTLF
END:VEVENT
BEGIN:VEVENT
DTSTART;TZID=America/Chicago:20200318T130000
DTEND;TZID=America/Chicago:20200318T140000
DTSTAMP:20260422T052343
CREATED:20191206T214636Z
LAST-MODIFIED:20191206T214636Z
UID:131527-1584536400-1584540000@ctl.morainevalley.edu
SUMMARY:Title IX Training
DESCRIPTION:Members of the Moraine Valley community have the right to be free from all forms of sexual discrimination\, harassment and misconduct\, examples of which include acts of sexual violence\, sexual harassment\, domestic violence\, dating violence\, and stalking. This session will give an overview of Moraine Valley’s comprehensive policy\, including: reporting options\, interim measures\, investigation and resolution procedures\, and resources and support services. Participants will leave with everything they need to effectively respond\, refer and report.
URL:https://ctl.morainevalley.edu/event/title-ix-training-12/
LOCATION:A171\, United States
CATEGORIES:CTLF
END:VEVENT
BEGIN:VEVENT
DTSTART;TZID=America/Chicago:20200319T130000
DTEND;TZID=America/Chicago:20200319T135000
DTSTAMP:20260422T052343
CREATED:20191206T214637Z
LAST-MODIFIED:20191206T214637Z
UID:131528-1584622800-1584625800@ctl.morainevalley.edu
SUMMARY:Canvas: Due Dates
DESCRIPTION:This session will discuss the benefits of using due dates in Canvas and tips to manage dates from one semester to another.
URL:https://ctl.morainevalley.edu/event/canvas-due-dates/
LOCATION:A280
CATEGORIES:CTLF
END:VEVENT
BEGIN:VEVENT
DTSTART;TZID=America/Chicago:20200320T000000
DTEND;TZID=America/Chicago:20200320T000000
DTSTAMP:20260422T052343
CREATED:20191206T214637Z
LAST-MODIFIED:20191206T214637Z
UID:131531-1584662400-1584662400@ctl.morainevalley.edu
SUMMARY:Accessible Presentations
DESCRIPTION:Many of the presentations we use daily may not be accessible for individuals with disabilities. We will focus on using the accessibility tools within Microsoft PowerPoint to scan for accessibility issues and offer corrections\, including accessible outlining/order\, layouts\, titles\, headers\, images\, lists\, links\, tables\, and color. This session will allow time for you to scan your own presentations\, learn about accessibility issues\, and receive assistance with corrections.
URL:https://ctl.morainevalley.edu/event/accessible-presentations-8/
LOCATION:L243
CATEGORIES:CTLE
END:VEVENT
BEGIN:VEVENT
DTSTART;TZID=America/Chicago:20200320T100000
DTEND;TZID=America/Chicago:20200320T100000
DTSTAMP:20260422T052343
CREATED:20191206T214637Z
LAST-MODIFIED:20191206T214637Z
UID:131529-1584698400-1584698400@ctl.morainevalley.edu
SUMMARY:Accessible Email
DESCRIPTION:Many of the emails we send and receive daily may not be accessible for individuals with disabilities. This session will share tips to create accessible email.
URL:https://ctl.morainevalley.edu/event/accessible-email-4/
LOCATION:L243
CATEGORIES:CTLE
END:VEVENT
BEGIN:VEVENT
DTSTART;TZID=America/Chicago:20200320T110000
DTEND;TZID=America/Chicago:20200320T110000
DTSTAMP:20260422T052343
CREATED:20191206T214637Z
LAST-MODIFIED:20191206T214637Z
UID:131530-1584702000-1584702000@ctl.morainevalley.edu
SUMMARY:Accessible Documents
DESCRIPTION:Many of the documents we use daily may not be accessible for individuals with disabilities. We will focus on using the accessibility tools within Microsoft Word to scan existing documents for accessibility issues and offer corrections\, including accessible headings\, images\, lists\, links\, tables\, and color. This session will allow time for you to scan your own documents\, learn about accessibility issues\, and receive assistance with corrections.
URL:https://ctl.morainevalley.edu/event/accessible-documents-12/
LOCATION:L243
CATEGORIES:CTLE
END:VEVENT
BEGIN:VEVENT
DTSTART;TZID=America/Chicago:20200320T140000
DTEND;TZID=America/Chicago:20200320T140000
DTSTAMP:20260422T052343
CREATED:20191206T214637Z
LAST-MODIFIED:20191206T214637Z
UID:131533-1584712800-1584712800@ctl.morainevalley.edu
SUMMARY:Accessibility In Canvas
DESCRIPTION:Accessibility is an important aspect in the success of all students\, especially those using Canvas. We will focus on utilizing the easy-to-use UDOIT tool in Canvas\, which can help scan courses for accessibility issues and offer corrections. This session will allow time for you to scan your own classes\, learn about accessibility issues\, and receive assistance with corrections.
URL:https://ctl.morainevalley.edu/event/accessibility-in-canvas-4/
LOCATION:L243
CATEGORIES:CTLE
END:VEVENT
BEGIN:VEVENT
DTSTART;TZID=America/Chicago:20200320T150000
DTEND;TZID=America/Chicago:20200320T150000
DTSTAMP:20260422T052343
CREATED:20191206T214637Z
LAST-MODIFIED:20191206T214637Z
UID:131532-1584716400-1584716400@ctl.morainevalley.edu
SUMMARY:Accessible Video
DESCRIPTION:Creating accessible\, captioned video is easy! Captioned video allows for a multitude of people to be able to watch a video\, including those who may have a disability\, may need easy reference to a text version of content\, or are simply viewing in a crowded space. The Panopto video management system makes this easy with its speech to text feature! This session will give you time to learn about accessibility issues\, and learn how to correct them
URL:https://ctl.morainevalley.edu/event/accessible-video-6/
LOCATION:L243
CATEGORIES:CTLE
END:VEVENT
BEGIN:VEVENT
DTSTART;TZID=America/Chicago:20200323T210000
DTEND;TZID=America/Chicago:20200323T215000
DTSTAMP:20260422T052343
CREATED:20191206T214637Z
LAST-MODIFIED:20191206T214637Z
UID:131534-1584997200-1585000200@ctl.morainevalley.edu
SUMMARY:Canvas: Getting Started
DESCRIPTION:This workshop will provide an introduction to the Canvas learning management system from an instructor perspective. In this session\, participants will learn how to navigate Canvas\, post a course syllabus\, create a simple module\, edit the course menu\, post announcements\, and make the course and its resources available to students.
URL:https://ctl.morainevalley.edu/event/canvas-getting-started-7/
LOCATION:L243
CATEGORIES:CTLF
END:VEVENT
END:VCALENDAR