BEGIN:VCALENDAR
VERSION:2.0
PRODID:-//Moraine Valley Center for Teaching &amp; Learning - ECPv6.15.20//NONSGML v1.0//EN
CALSCALE:GREGORIAN
METHOD:PUBLISH
X-ORIGINAL-URL:https://ctl.morainevalley.edu
X-WR-CALDESC:Events for Moraine Valley Center for Teaching &amp; Learning
REFRESH-INTERVAL;VALUE=DURATION:PT1H
X-Robots-Tag:noindex
X-PUBLISHED-TTL:PT1H
BEGIN:VTIMEZONE
TZID:America/Chicago
BEGIN:DAYLIGHT
TZOFFSETFROM:-0600
TZOFFSETTO:-0500
TZNAME:CDT
DTSTART:20250309T080000
END:DAYLIGHT
BEGIN:STANDARD
TZOFFSETFROM:-0500
TZOFFSETTO:-0600
TZNAME:CST
DTSTART:20251102T070000
END:STANDARD
BEGIN:DAYLIGHT
TZOFFSETFROM:-0600
TZOFFSETTO:-0500
TZNAME:CDT
DTSTART:20260308T080000
END:DAYLIGHT
BEGIN:STANDARD
TZOFFSETFROM:-0500
TZOFFSETTO:-0600
TZNAME:CST
DTSTART:20261101T070000
END:STANDARD
BEGIN:DAYLIGHT
TZOFFSETFROM:-0600
TZOFFSETTO:-0500
TZNAME:CDT
DTSTART:20270314T080000
END:DAYLIGHT
BEGIN:STANDARD
TZOFFSETFROM:-0500
TZOFFSETTO:-0600
TZNAME:CST
DTSTART:20271107T070000
END:STANDARD
END:VTIMEZONE
BEGIN:VEVENT
DTSTART;TZID=America/Chicago:20260203T120000
DTEND;TZID=America/Chicago:20260203T124500
DTSTAMP:20260423T025742
CREATED:20260114T213709Z
LAST-MODIFIED:20260114T213709Z
UID:141027-1770120000-1770122700@ctl.morainevalley.edu
SUMMARY:CREATING ACCESSIBLE COURSES (UDOIT) CTLE-I128-531
DESCRIPTION:This session explores the importance of accessibility in educational settings. Participants will gain insights into creating accessible digital content in Canvas\, using UDOIT.
URL:https://ctl.morainevalley.edu/event/creating-accessible-courses-udoit-ctle-i128-531/
LOCATION:Online
CATEGORIES:CTLE
END:VEVENT
BEGIN:VEVENT
DTSTART;TZID=America/Chicago:20260203T130000
DTEND;TZID=America/Chicago:20260203T135000
DTSTAMP:20260423T025742
CREATED:20251219T170648Z
LAST-MODIFIED:20260115T225509Z
UID:140986-1770123600-1770126600@ctl.morainevalley.edu
SUMMARY:ACCESSIBLE IMAGES WITH ALT TEXT (CTLE-T240-501)
DESCRIPTION:If you’re creating digital content that includes images\, you need alt text! Learn about alt text as an accessibility tool and gain hands-on experience evaluating and writing it for your webpage\, canvas page\, or social media. \nParticipants will:\n1. Be able to describe alternative text (alt text) as an accessibility tool\n2. Evaluate examples of alt text for clarity\n3. Construct alt text for a variety of images
URL:https://ctl.morainevalley.edu/event/accessible-images-with-alt-text-ctle-t240-501/
LOCATION:L162\, United States
CATEGORIES:CTLE
END:VEVENT
BEGIN:VEVENT
DTSTART;TZID=America/Chicago:20260210T160000
DTEND;TZID=America/Chicago:20260210T170000
DTSTAMP:20260423T025742
CREATED:20251219T164909Z
LAST-MODIFIED:20251219T164909Z
UID:140983-1770739200-1770742800@ctl.morainevalley.edu
SUMMARY:DIGITAL ACCESSIBILITY OPEN LAB (CTLE-S145-506)
DESCRIPTION:The Digital Accessibility Lab provides hands-on support to help create accessible digital content\, ensuring equal access for all students.
URL:https://ctl.morainevalley.edu/event/digital-accessibility-open-lab-ctle-s145-506/
LOCATION:T925
CATEGORIES:CTLE
END:VEVENT
BEGIN:VEVENT
DTSTART;TZID=America/Chicago:20260211T140000
DTEND;TZID=America/Chicago:20260211T150000
DTSTAMP:20260423T025742
CREATED:20251219T165145Z
LAST-MODIFIED:20251219T165145Z
UID:140984-1770818400-1770822000@ctl.morainevalley.edu
SUMMARY:DIGITAL ACCESSIBILITY OPEN LAB (CTLE-S145-507)
DESCRIPTION:The Digital Accessibility Lab provides hands-on support to help create accessible digital content\, ensuring equal access for all students.
URL:https://ctl.morainevalley.edu/event/digital-accessibility-open-lab-ctle-s145-507/
LOCATION:L243
CATEGORIES:CTLE
END:VEVENT
BEGIN:VEVENT
DTSTART;TZID=America/Chicago:20260227T110000
DTEND;TZID=America/Chicago:20260227T120000
DTSTAMP:20260423T025742
CREATED:20251219T171116Z
LAST-MODIFIED:20251219T171116Z
UID:140988-1772190000-1772193600@ctl.morainevalley.edu
SUMMARY:DIGITAL ACCESSIBILITY OPEN LAB (CTLE-S145-508)
DESCRIPTION:The Digital Accessibility Lab provides hands-on support to help create accessible digital content\, ensuring equal access for all students. \n 
URL:https://ctl.morainevalley.edu/event/digital-accessibility-open-lab-ctle-s145-508/
LOCATION:B255
CATEGORIES:CTLE
END:VEVENT
END:VCALENDAR