BEGIN:VCALENDAR
VERSION:2.0
PRODID:-//Moraine Valley Center for Teaching &amp; Learning - ECPv6.15.20//NONSGML v1.0//EN
CALSCALE:GREGORIAN
METHOD:PUBLISH
X-ORIGINAL-URL:https://ctl.morainevalley.edu
X-WR-CALDESC:Events for Moraine Valley Center for Teaching &amp; Learning
REFRESH-INTERVAL;VALUE=DURATION:PT1H
X-Robots-Tag:noindex
X-PUBLISHED-TTL:PT1H
BEGIN:VTIMEZONE
TZID:America/Chicago
BEGIN:DAYLIGHT
TZOFFSETFROM:-0600
TZOFFSETTO:-0500
TZNAME:CDT
DTSTART:20220313T080000
END:DAYLIGHT
BEGIN:STANDARD
TZOFFSETFROM:-0500
TZOFFSETTO:-0600
TZNAME:CST
DTSTART:20221106T070000
END:STANDARD
BEGIN:DAYLIGHT
TZOFFSETFROM:-0600
TZOFFSETTO:-0500
TZNAME:CDT
DTSTART:20230312T080000
END:DAYLIGHT
BEGIN:STANDARD
TZOFFSETFROM:-0500
TZOFFSETTO:-0600
TZNAME:CST
DTSTART:20231105T070000
END:STANDARD
BEGIN:DAYLIGHT
TZOFFSETFROM:-0600
TZOFFSETTO:-0500
TZNAME:CDT
DTSTART:20240310T080000
END:DAYLIGHT
BEGIN:STANDARD
TZOFFSETFROM:-0500
TZOFFSETTO:-0600
TZNAME:CST
DTSTART:20241103T070000
END:STANDARD
END:VTIMEZONE
BEGIN:VEVENT
DTSTART;TZID=America/Chicago:20230914T110000
DTEND;TZID=America/Chicago:20230914T121500
DTSTAMP:20260419T180929
CREATED:20230908T184501Z
LAST-MODIFIED:20230908T185828Z
UID:139816-1694689200-1694693700@ctl.morainevalley.edu
SUMMARY:Chatting with a Moraine Trustee: Why Politics\, Public Policy\, Political Participation\, and Bi-Partisanship are Important
DESCRIPTION:Come meet one of our new members of the Board of Trustees Jaclyn O’Day. Trustee O’Day is a lifelong Palos Park resident and has a wealth of knowledge of local\, state\, and national politics. She was the Chief-of-Staff for Congressman Dan Lipinski (former Illinois House of Representatives member for 16 years)\, a leader in several state government agencies\, and most recently former Executive Director of the U.S. House Problem Solvers Caucus. We will discuss what made her interested in politics and government\, the intersection of politics and public policy\, why bi-partisan solutions are important to addressing key issues\, and why it’s so hard for Democrats and Republicans to work together.
URL:https://ctl.morainevalley.edu/event/chatting-with-a-moraine-trustee-why-politics-public-policy-political-participation-and-bi-partisanship-are-important/
LOCATION:Library\, United States
END:VEVENT
END:VCALENDAR